BEGIN:VCALENDAR
VERSION:2.0
PRODID:-//Big Country CASA - ECPv6.15.20//NONSGML v1.0//EN
CALSCALE:GREGORIAN
METHOD:PUBLISH
X-ORIGINAL-URL:https://bigcountrycasa.org
X-WR-CALDESC:Events for Big Country CASA
REFRESH-INTERVAL;VALUE=DURATION:PT1H
X-Robots-Tag:noindex
X-PUBLISHED-TTL:PT1H
BEGIN:VTIMEZONE
TZID:America/Chicago
BEGIN:DAYLIGHT
TZOFFSETFROM:-0600
TZOFFSETTO:-0500
TZNAME:CDT
DTSTART:20250309T080000
END:DAYLIGHT
BEGIN:STANDARD
TZOFFSETFROM:-0500
TZOFFSETTO:-0600
TZNAME:CST
DTSTART:20251102T070000
END:STANDARD
BEGIN:DAYLIGHT
TZOFFSETFROM:-0600
TZOFFSETTO:-0500
TZNAME:CDT
DTSTART:20260308T080000
END:DAYLIGHT
BEGIN:STANDARD
TZOFFSETFROM:-0500
TZOFFSETTO:-0600
TZNAME:CST
DTSTART:20261101T070000
END:STANDARD
BEGIN:DAYLIGHT
TZOFFSETFROM:-0600
TZOFFSETTO:-0500
TZNAME:CDT
DTSTART:20270314T080000
END:DAYLIGHT
BEGIN:STANDARD
TZOFFSETFROM:-0500
TZOFFSETTO:-0600
TZNAME:CST
DTSTART:20271107T070000
END:STANDARD
END:VTIMEZONE
BEGIN:VEVENT
DTSTART;TZID=America/Chicago:20260502T073000
DTEND;TZID=America/Chicago:20260502T230000
DTSTAMP:20260424T094321
CREATED:20260415T160403Z
LAST-MODIFIED:20260415T160611Z
UID:10000103-1777707000-1777762800@bigcountrycasa.org
SUMMARY:Superhero 5K Fun Run
DESCRIPTION:Join us for the 9th Annual Superhero 5k Fun Run (Walk\, Run or Fly!) at the ACU Williams Performing Arts Center in Abilene\, Texas.   \n\n\n\n \n\n\n\nWhy Run?\n\n\n\nThe goal of our event is to increase awareness of CASA (Court Appointed Special Advocates)\, to recruit more volunteer advocates for children and to raise funds to support our mission. All proceeds from our race will directly benefit Big Country CASA in our mission to give a “voice” to abused and neglected children in court and the Taylor County foster care system.
URL:https://bigcountrycasa.org/event/superhero-5k-fun-run/
ATTACH;FMTTYPE=image/jpeg:https://bigcountrycasa.org/wp-content/uploads/sites/31/2026/04/5k-2025-scaled.jpg
END:VEVENT
BEGIN:VEVENT
DTSTART;TZID=America/Chicago:20260512T120000
DTEND;TZID=America/Chicago:20260512T130000
DTSTAMP:20260424T094321
CREATED:20260311T160631Z
LAST-MODIFIED:20260311T160718Z
UID:10000102-1778587200-1778590800@bigcountrycasa.org
SUMMARY:May Lunch and Learn - Human Trafficking
DESCRIPTION:You’re invited to our next Lunch and Learn – May 12th from 12:00pm-1:00pm. We have Special Agent Josh Sams from the Criminal Investigations Division coming to talk about Human Trafficking.  \n\n\n\nEarn CEU credit while you hear about a topic that is all too real in today’s world. \n\n\n\nAs always\, feel free to bring your own lunch to eat while we learn. We will have small snacks and water bottles available.
URL:https://bigcountrycasa.org/event/may-lunch-and-learn-human-trafficking/
ATTACH;FMTTYPE=image/png:https://bigcountrycasa.org/wp-content/uploads/sites/31/2026/03/DPS-LL-Trafficking.png
END:VEVENT
BEGIN:VEVENT
DTSTART;TZID=America/Chicago:20260528T090000
DTEND;TZID=America/Chicago:20260528T103000
DTSTAMP:20260424T094321
CREATED:20260421T182917Z
LAST-MODIFIED:20260421T183022Z
UID:10000104-1779958800-1779964200@bigcountrycasa.org
SUMMARY:Summer - May/June New Advocate Training Class
DESCRIPTION:Orientation – 9am-10:30am on Thursday May 28th; Sessions 1-6 – 8:45am – 12:15pm on Mon June 1st\, Thurs June 4th\, Mon June 8th\, Thurs June 11th\, Mon June 15th and Thurs June 18th
URL:https://bigcountrycasa.org/event/summer-may-june-new-advocate-training-class/2026-05-28/
ATTACH;FMTTYPE=image/png:https://bigcountrycasa.org/wp-content/uploads/sites/31/2025/12/CASA-training-pic-1.png
END:VEVENT
BEGIN:VEVENT
DTSTART;TZID=America/Chicago:20260610T100000
DTEND;TZID=America/Chicago:20260610T110000
DTSTAMP:20260424T094321
CREATED:20260423T170455Z
LAST-MODIFIED:20260423T170647Z
UID:10000112-1781085600-1781089200@bigcountrycasa.org
SUMMARY:Tour de Abilene Stop 5 - Abilene Recovery Council
DESCRIPTION:Big Country CASA is continuing year two of our “Tour de Abilene”\, where we are scheduling tours at local facilities that we (as CASAs) could benefit from knowing more about. We are planning to visit one location each month. The times will be determined based on each facility’s requirements for visitors\, so be sure to check each invite for the specifics. We hope you can join us.  \n\n\n\nThis time we are heading to Abilene Recovery Council.
URL:https://bigcountrycasa.org/event/tour-de-abilene-stop-5-abilene-recovery-council/
ATTACH;FMTTYPE=image/png:https://bigcountrycasa.org/wp-content/uploads/sites/31/2026/04/Tour-ARC.png
END:VEVENT
BEGIN:VEVENT
DTSTART;TZID=America/Chicago:20260625T190000
DTEND;TZID=America/Chicago:20260625T203000
DTSTAMP:20260424T094321
CREATED:20260423T171126Z
LAST-MODIFIED:20260423T171216Z
UID:10000113-1782414000-1782419400@bigcountrycasa.org
SUMMARY:Summer Book Club
DESCRIPTION:Summer Book Club – June 25\, 2026 \n\n\n\nJoin us for the next CASA book group as we read The Glass Castle A Memoir by Jeannette Walls and is available in multiple versions on Amazon: https://www.amazon.com/dp/074324754X?ref=ppx_yo2ov_dt_b_fed_asin_title \n\n\n\nThe Glass Castle is a remarkable memoir of resilience and redemption\, and a revelatory look into a family at once deeply dysfunctional and uniquely vibrant. When sober\, Jeannette’s brilliant and charismatic father captured his children’s imagination\, teaching them physics\, geology\, and how to embrace life fearlessly. But when he drank\, he was dishonest and destructive. Her mother was a free spirit who abhorred the idea of domesticity and didn’t want the responsibility of raising a family.The Walls children learned to take care of themselves. They fed\, clothed\, and protected one another\, and eventually found their way to New York. Their parents followed them\, choosing to be homeless even as their children prospered.The Glass Castle is truly astonishing—a memoir permeated by the intense love of a peculiar but loyal family.The memoir was also made into a major motion picture from Lionsgate in 2017 starring Brie Larson\, Woody Harrelson\, and Naomi Watts.
URL:https://bigcountrycasa.org/event/summer-book-club/
ATTACH;FMTTYPE=image/png:https://bigcountrycasa.org/wp-content/uploads/sites/31/2026/04/Summer-Book-Club.png
END:VEVENT
BEGIN:VEVENT
DTSTART;TZID=America/Chicago:20260629T174500
DTEND;TZID=America/Chicago:20260629T204500
DTSTAMP:20260424T094321
CREATED:20260421T193418Z
LAST-MODIFIED:20260421T193530Z
UID:10000111-1782755100-1782765900@bigcountrycasa.org
SUMMARY:Dinner Training
DESCRIPTION:You’re invited to our next evening training – June29th from 5:45pm-8:45pm. We have Elizabeth Powell\, LMFT from Abilene Family Counseling\, coming to discuss the topic ‘Empowering and Motivating after Trauma’. As we all know\, the youth we serve are at an increased risk due to the trauma they all face.  \n\n\n\nWe will be providing dinner for this training\, as well as small snacks and water bottles. Feel free to bring your favorite drink to enjoy while we learn.
URL:https://bigcountrycasa.org/event/dinner-training/
ATTACH;FMTTYPE=image/png:https://bigcountrycasa.org/wp-content/uploads/sites/31/2026/04/dinner-training.png
END:VEVENT
END:VCALENDAR